BEGIN:VCALENDAR
VERSION:2.0
PRODID:-//Speedway Fakta - ECPv6.3.5//NONSGML v1.0//EN
CALSCALE:GREGORIAN
METHOD:PUBLISH
X-WR-CALNAME:Speedway Fakta
X-ORIGINAL-URL:https://www.speedwayfakta.cz
X-WR-CALDESC:Akce na Speedway Fakta
REFRESH-INTERVAL;VALUE=DURATION:PT1H
X-Robots-Tag:noindex
X-PUBLISHED-TTL:PT1H
BEGIN:VTIMEZONE
TZID:Europe/Prague
BEGIN:DAYLIGHT
TZOFFSETFROM:+0100
TZOFFSETTO:+0200
TZNAME:CEST
DTSTART:20260329T010000
END:DAYLIGHT
BEGIN:STANDARD
TZOFFSETFROM:+0200
TZOFFSETTO:+0100
TZNAME:CET
DTSTART:20261025T010000
END:STANDARD
END:VTIMEZONE
BEGIN:VEVENT
DTSTART;TZID=Europe/Prague:20260418T000000
DTEND;TZID=Europe/Prague:20260418T235959
DTSTAMP:20260422T103715
CREATED:20260410T112851Z
LAST-MODIFIED:20260410T112853Z
UID:64842-1776470400-1776556799@www.speedwayfakta.cz
SUMMARY:MČR juniorů do 125ccm MD 1 (Chabařovice)
DESCRIPTION:
URL:https://www.speedwayfakta.cz/event/mcr-junioru-do-125ccm-md-1-chabarovice/
END:VEVENT
BEGIN:VEVENT
DTSTART;TZID=Europe/Prague:20260418T000000
DTEND;TZID=Europe/Prague:20260418T235959
DTSTAMP:20260422T103715
CREATED:20260413T120600Z
LAST-MODIFIED:20260413T120602Z
UID:64922-1776470400-1776556799@www.speedwayfakta.cz
SUMMARY:MČR Flattrack 1 (Chabařovice)
DESCRIPTION:FT 1\, FT Classis\, FT junior
URL:https://www.speedwayfakta.cz/event/mcr-flattrack-1-chabarovice/
END:VEVENT
BEGIN:VEVENT
DTSTART;TZID=Europe/Prague:20260418T150000
DTEND;TZID=Europe/Prague:20260418T200000
DTSTAMP:20260422T103715
CREATED:20260410T114829Z
LAST-MODIFIED:20260416T082729Z
UID:64874-1776524400-1776542400@www.speedwayfakta.cz
SUMMARY:ME družstev semifinále 1 a 2 (Pardubice)
DESCRIPTION:
URL:https://www.speedwayfakta.cz/event/me-druzstev-semifinale-1-a-2-pardubice/
ORGANIZER;CN="AMK Zlat%C3%A1 p%C5%99ilba Pardubice":MAILTO:amk.zp@wo.cz
END:VEVENT
END:VCALENDAR