BEGIN:VCALENDAR
VERSION:2.0
PRODID:-//Speedway Fakta - ECPv6.3.5//NONSGML v1.0//EN
CALSCALE:GREGORIAN
METHOD:PUBLISH
X-ORIGINAL-URL:https://www.speedwayfakta.cz
X-WR-CALDESC:Akce na Speedway Fakta
REFRESH-INTERVAL;VALUE=DURATION:PT1H
X-Robots-Tag:noindex
X-PUBLISHED-TTL:PT1H
BEGIN:VTIMEZONE
TZID:Europe/Prague
BEGIN:DAYLIGHT
TZOFFSETFROM:+0100
TZOFFSETTO:+0200
TZNAME:CEST
DTSTART:20260329T010000
END:DAYLIGHT
BEGIN:STANDARD
TZOFFSETFROM:+0200
TZOFFSETTO:+0100
TZNAME:CET
DTSTART:20261025T010000
END:STANDARD
END:VTIMEZONE
BEGIN:VEVENT
DTSTART;TZID=Europe/Prague:20260508T000000
DTEND;TZID=Europe/Prague:20260508T235959
DTSTAMP:20260422T164142
CREATED:20260410T114333Z
LAST-MODIFIED:20260410T114335Z
UID:64858-1778198400-1778284799@www.speedwayfakta.cz
SUMMARY:Memoriál Antonína Vildeho (Slaný)
DESCRIPTION:
URL:https://www.speedwayfakta.cz/event/memorial-antonina-vildeho-slany/
END:VEVENT
BEGIN:VEVENT
DTSTART;TZID=Europe/Prague:20260508T000000
DTEND;TZID=Europe/Prague:20260508T235959
DTSTAMP:20260422T164142
CREATED:20260410T114412Z
LAST-MODIFIED:20260410T114413Z
UID:64860-1778198400-1778284799@www.speedwayfakta.cz
SUMMARY:3. ročník SPT vs. PROFIL team (Kopřivnice)
DESCRIPTION:
URL:https://www.speedwayfakta.cz/event/3-rocnik-spt-vs-profil-team-koprivnice/
END:VEVENT
END:VCALENDAR