BEGIN:VCALENDAR
VERSION:2.0
PRODID:-//Speedway Fakta - ECPv6.3.5//NONSGML v1.0//EN
CALSCALE:GREGORIAN
METHOD:PUBLISH
X-WR-CALNAME:Speedway Fakta
X-ORIGINAL-URL:https://www.speedwayfakta.cz
X-WR-CALDESC:Akce na Speedway Fakta
REFRESH-INTERVAL;VALUE=DURATION:PT1H
X-Robots-Tag:noindex
X-PUBLISHED-TTL:PT1H
BEGIN:VTIMEZONE
TZID:Europe/Prague
BEGIN:DAYLIGHT
TZOFFSETFROM:+0100
TZOFFSETTO:+0200
TZNAME:CEST
DTSTART:20260329T010000
END:DAYLIGHT
BEGIN:STANDARD
TZOFFSETFROM:+0200
TZOFFSETTO:+0100
TZNAME:CET
DTSTART:20261025T010000
END:STANDARD
END:VTIMEZONE
BEGIN:VEVENT
DTSTART;TZID=Europe/Prague:20260613T000000
DTEND;TZID=Europe/Prague:20260613T235959
DTSTAMP:20260422T145904
CREATED:20260410T110558Z
LAST-MODIFIED:20260410T110559Z
UID:64792-1781308800-1781395199@www.speedwayfakta.cz
SUMMARY:Přebor ČR jednotlivců 4 (Chabařovice)
DESCRIPTION:
URL:https://www.speedwayfakta.cz/event/prebor-cr-jednotlivcu-4-chabarovice/
END:VEVENT
BEGIN:VEVENT
DTSTART;TZID=Europe/Prague:20260613T000000
DTEND;TZID=Europe/Prague:20260613T235959
DTSTAMP:20260422T145904
CREATED:20260410T112543Z
LAST-MODIFIED:20260410T112544Z
UID:64836-1781308800-1781395199@www.speedwayfakta.cz
SUMMARY:MČR juniorů do 125ccm 4 (Chabařovice)
DESCRIPTION:
URL:https://www.speedwayfakta.cz/event/mcr-junioru-do-125ccm-4-chabarovice/
END:VEVENT
END:VCALENDAR