BEGIN:VCALENDAR
VERSION:2.0
PRODID:-//Speedway Fakta - ECPv6.3.5//NONSGML v1.0//EN
CALSCALE:GREGORIAN
METHOD:PUBLISH
X-WR-CALNAME:Speedway Fakta
X-ORIGINAL-URL:https://www.speedwayfakta.cz
X-WR-CALDESC:Akce na Speedway Fakta
REFRESH-INTERVAL;VALUE=DURATION:PT1H
X-Robots-Tag:noindex
X-PUBLISHED-TTL:PT1H
BEGIN:VTIMEZONE
TZID:Europe/Prague
BEGIN:DAYLIGHT
TZOFFSETFROM:+0100
TZOFFSETTO:+0200
TZNAME:CEST
DTSTART:20250330T010000
END:DAYLIGHT
BEGIN:STANDARD
TZOFFSETFROM:+0200
TZOFFSETTO:+0100
TZNAME:CET
DTSTART:20251026T010000
END:STANDARD
END:VTIMEZONE
BEGIN:VEVENT
DTSTART;TZID=Europe/Prague:20250903T000000
DTEND;TZID=Europe/Prague:20250903T235959
DTSTAMP:20260422T191138
CREATED:20250324T101000Z
LAST-MODIFIED:20250324T101002Z
UID:60786-1756857600-1756943999@www.speedwayfakta.cz
SUMMARY:Extraliga 3 (Slaný)
DESCRIPTION:
URL:https://www.speedwayfakta.cz/event/extraliga-3-slany-2/
END:VEVENT
BEGIN:VEVENT
DTSTART;TZID=Europe/Prague:20250906T000000
DTEND;TZID=Europe/Prague:20250906T235959
DTSTAMP:20260422T191138
CREATED:20250324T091322Z
LAST-MODIFIED:20250324T091323Z
UID:60738-1757116800-1757203199@www.speedwayfakta.cz
SUMMARY:ME dvojic U19 finále (Plzeň - CZE)
DESCRIPTION:
URL:https://www.speedwayfakta.cz/event/me-dvojic-u19-finale-plzen-cze/
END:VEVENT
BEGIN:VEVENT
DTSTART;TZID=Europe/Prague:20250906T000000
DTEND;TZID=Europe/Prague:20250906T235959
DTSTAMP:20260422T191138
CREATED:20250324T104728Z
LAST-MODIFIED:20250324T104730Z
UID:60870-1757116800-1757203199@www.speedwayfakta.cz
SUMMARY:Open MČR Flat Track 9 (Svitavy)
DESCRIPTION:FTFT classicFT junior
URL:https://www.speedwayfakta.cz/event/open-mcr-flat-track-9-svitavy/
END:VEVENT
BEGIN:VEVENT
DTSTART;TZID=Europe/Prague:20250912T000000
DTEND;TZID=Europe/Prague:20250912T235959
DTSTAMP:20260422T191138
CREATED:20241022T113111Z
LAST-MODIFIED:20241022T113112Z
UID:60365-1757635200-1757721599@www.speedwayfakta.cz
SUMMARY:3. SGP 2 (Vojens - DEN)
DESCRIPTION:
URL:https://www.speedwayfakta.cz/event/3-sgp-2-vojens-den/
END:VEVENT
BEGIN:VEVENT
DTSTART;TZID=Europe/Prague:20250913T000000
DTEND;TZID=Europe/Prague:20250913T235959
DTSTAMP:20260422T191138
CREATED:20241022T111810Z
LAST-MODIFIED:20241022T111811Z
UID:60359-1757721600-1757807999@www.speedwayfakta.cz
SUMMARY:10. SGP (Vojens - DEN)
DESCRIPTION:
URL:https://www.speedwayfakta.cz/event/10-sgp-vojens-den/
END:VEVENT
BEGIN:VEVENT
DTSTART;TZID=Europe/Prague:20250913T000000
DTEND;TZID=Europe/Prague:20250913T235959
DTSTAMP:20260422T191138
CREATED:20241022T113307Z
LAST-MODIFIED:20241022T113309Z
UID:60369-1757721600-1757807999@www.speedwayfakta.cz
SUMMARY:SGP 4 finále (Vojens - DEN)
DESCRIPTION:
URL:https://www.speedwayfakta.cz/event/sgp-4-finale-vojens-den/
END:VEVENT
BEGIN:VEVENT
DTSTART;TZID=Europe/Prague:20250919T000000
DTEND;TZID=Europe/Prague:20250919T235959
DTSTAMP:20260422T191138
CREATED:20250324T090657Z
LAST-MODIFIED:20250324T090659Z
UID:60724-1758240000-1758326399@www.speedwayfakta.cz
SUMMARY:SEC 4 (Pardubice - CZE)
DESCRIPTION:
URL:https://www.speedwayfakta.cz/event/sec-4-pardubice-cze/
END:VEVENT
BEGIN:VEVENT
DTSTART;TZID=Europe/Prague:20250920T000000
DTEND;TZID=Europe/Prague:20250920T235959
DTSTAMP:20260422T191138
CREATED:20250324T105006Z
LAST-MODIFIED:20250324T105007Z
UID:60878-1758326400-1758412799@www.speedwayfakta.cz
SUMMARY:51. Zlatá stuha (Pardubice)
DESCRIPTION:
URL:https://www.speedwayfakta.cz/event/51-zlata-stuha-pardubice/
END:VEVENT
BEGIN:VEVENT
DTSTART;TZID=Europe/Prague:20250921T000000
DTEND;TZID=Europe/Prague:20250921T235959
DTSTAMP:20260422T191138
CREATED:20250324T105039Z
LAST-MODIFIED:20250324T105041Z
UID:60880-1758412800-1758499199@www.speedwayfakta.cz
SUMMARY:77. Zlatá přilba (Pardubice)
DESCRIPTION:
URL:https://www.speedwayfakta.cz/event/77-zlata-prilba-pardubice/
END:VEVENT
BEGIN:VEVENT
DTSTART;TZID=Europe/Prague:20250922T000000
DTEND;TZID=Europe/Prague:20250922T235959
DTSTAMP:20260422T191138
CREATED:20250324T105118Z
LAST-MODIFIED:20250324T105120Z
UID:60882-1758499200-1758585599@www.speedwayfakta.cz
SUMMARY:56. Tomíčkův memoriál (Praha)
DESCRIPTION:
URL:https://www.speedwayfakta.cz/event/56-tomickuv-memorial-praha/
END:VEVENT
BEGIN:VEVENT
DTSTART;TZID=Europe/Prague:20250927T000000
DTEND;TZID=Europe/Prague:20250927T235959
DTSTAMP:20260422T191138
CREATED:20250324T103738Z
LAST-MODIFIED:20250324T103739Z
UID:60852-1758931200-1759017599@www.speedwayfakta.cz
SUMMARY:MČR do 125 ccm KD 9 (Mariánské Lázně)
DESCRIPTION:
URL:https://www.speedwayfakta.cz/event/mcr-do-125-ccm-kd-9-marianske-lazne/
END:VEVENT
BEGIN:VEVENT
DTSTART;TZID=Europe/Prague:20250927T000000
DTEND;TZID=Europe/Prague:20250927T235959
DTSTAMP:20260422T191138
CREATED:20250324T104816Z
LAST-MODIFIED:20250324T104818Z
UID:60872-1758931200-1759017599@www.speedwayfakta.cz
SUMMARY:Open MČR Flat Track 10 (Březolupy)
DESCRIPTION:FTFT classicFT junior
URL:https://www.speedwayfakta.cz/event/open-mcr-flat-track-10-brezolupy/
END:VEVENT
BEGIN:VEVENT
DTSTART;TZID=Europe/Prague:20250927T000000
DTEND;TZID=Europe/Prague:20250927T235959
DTSTAMP:20260422T191138
CREATED:20250324T105156Z
LAST-MODIFIED:20250324T105158Z
UID:60884-1758931200-1759017599@www.speedwayfakta.cz
SUMMARY:Evropská série veteránů (Mariánské Lázně)
DESCRIPTION:
URL:https://www.speedwayfakta.cz/event/evropska-serie-veteranu-marianske-lazne/
END:VEVENT
BEGIN:VEVENT
DTSTART;TZID=Europe/Prague:20250928T000000
DTEND;TZID=Europe/Prague:20250928T235959
DTSTAMP:20260422T191138
CREATED:20250324T091835Z
LAST-MODIFIED:20250324T091838Z
UID:60752-1759017600-1759103999@www.speedwayfakta.cz
SUMMARY:ME sajdkáry finále (Haunstetten - GER)
DESCRIPTION:
URL:https://www.speedwayfakta.cz/event/me-sajdkary-finale-haunstetten-ger/
END:VEVENT
BEGIN:VEVENT
DTSTART;TZID=Europe/Prague:20250930T000000
DTEND;TZID=Europe/Prague:20250930T235959
DTSTAMP:20260422T191138
CREATED:20241022T113413Z
LAST-MODIFIED:20241022T113415Z
UID:60371-1759190400-1759276799@www.speedwayfakta.cz
SUMMARY:SON semifinále 1 (Toruň - POL)
DESCRIPTION:
URL:https://www.speedwayfakta.cz/event/son-semifinale-1-torun-pol/
END:VEVENT
END:VCALENDAR