BEGIN:VCALENDAR
VERSION:2.0
PRODID:-//Speedway Fakta - ECPv6.3.5//NONSGML v1.0//EN
CALSCALE:GREGORIAN
METHOD:PUBLISH
X-ORIGINAL-URL:https://www.speedwayfakta.cz
X-WR-CALDESC:Akce na Speedway Fakta
REFRESH-INTERVAL;VALUE=DURATION:PT1H
X-Robots-Tag:noindex
X-PUBLISHED-TTL:PT1H
BEGIN:VTIMEZONE
TZID:Europe/Prague
BEGIN:DAYLIGHT
TZOFFSETFROM:+0100
TZOFFSETTO:+0200
TZNAME:CEST
DTSTART:20260329T010000
END:DAYLIGHT
BEGIN:STANDARD
TZOFFSETFROM:+0200
TZOFFSETTO:+0100
TZNAME:CET
DTSTART:20261025T010000
END:STANDARD
END:VTIMEZONE
BEGIN:VEVENT
DTSTART;TZID=Europe/Prague:20260704T000000
DTEND;TZID=Europe/Prague:20260704T235959
DTSTAMP:20260422T145952
CREATED:20260410T114100Z
LAST-MODIFIED:20260410T114102Z
UID:64850-1783123200-1783209599@www.speedwayfakta.cz
SUMMARY:MČR juniorů do 125ccm MD 5 (Svitavy)
DESCRIPTION:
URL:https://www.speedwayfakta.cz/event/mcr-junioru-do-125ccm-md-5-svitavy/
END:VEVENT
BEGIN:VEVENT
DTSTART;TZID=Europe/Prague:20260704T000000
DTEND;TZID=Europe/Prague:20260704T235959
DTSTAMP:20260422T145952
CREATED:20260410T114446Z
LAST-MODIFIED:20260410T114447Z
UID:64863-1783123200-1783209599@www.speedwayfakta.cz
SUMMARY:Volný závod (Svitavy)
DESCRIPTION:
URL:https://www.speedwayfakta.cz/event/volny-zavod-svitavy/
END:VEVENT
BEGIN:VEVENT
DTSTART;TZID=Europe/Prague:20260718T000000
DTEND;TZID=Europe/Prague:20260718T235959
DTSTAMP:20260422T145952
CREATED:20260410T110949Z
LAST-MODIFIED:20260410T110950Z
UID:64804-1784332800-1784419199@www.speedwayfakta.cz
SUMMARY:1. liga 3 (Divišov)
DESCRIPTION:
URL:https://www.speedwayfakta.cz/event/1-liga-3-divisov/
END:VEVENT
BEGIN:VEVENT
DTSTART;TZID=Europe/Prague:20260718T000000
DTEND;TZID=Europe/Prague:20260718T235959
DTSTAMP:20260422T145952
CREATED:20260410T112613Z
LAST-MODIFIED:20260410T112614Z
UID:64838-1784332800-1784419199@www.speedwayfakta.cz
SUMMARY:MČR juniorů do 125ccm 5 (Divišov)
DESCRIPTION:
URL:https://www.speedwayfakta.cz/event/mcr-junioru-do-125ccm-5-divisov/
END:VEVENT
BEGIN:VEVENT
DTSTART;TZID=Europe/Prague:20260718T000000
DTEND;TZID=Europe/Prague:20260718T235959
DTSTAMP:20260422T145952
CREATED:20260413T120925Z
LAST-MODIFIED:20260413T120927Z
UID:64945-1784332800-1784419199@www.speedwayfakta.cz
SUMMARY:MČR Flattrack 4 (Rawicz - Polsko)
DESCRIPTION:FT\, FT Classic
URL:https://www.speedwayfakta.cz/event/mcr-flattrack-4-rawicz-polsko/
END:VEVENT
BEGIN:VEVENT
DTSTART;TZID=Europe/Prague:20260721T000000
DTEND;TZID=Europe/Prague:20260721T235959
DTSTAMP:20260422T145952
CREATED:20260410T111522Z
LAST-MODIFIED:20260410T111524Z
UID:64820-1784592000-1784678399@www.speedwayfakta.cz
SUMMARY:MČR juniorů 3 (Praha)
DESCRIPTION:
URL:https://www.speedwayfakta.cz/event/mcr-junioru-3-praha/
END:VEVENT
END:VCALENDAR