BEGIN:VCALENDAR
VERSION:2.0
PRODID:-//Speedway Fakta - ECPv6.3.5//NONSGML v1.0//EN
CALSCALE:GREGORIAN
METHOD:PUBLISH
X-WR-CALNAME:Speedway Fakta
X-ORIGINAL-URL:https://www.speedwayfakta.cz
X-WR-CALDESC:Akce na Speedway Fakta
REFRESH-INTERVAL;VALUE=DURATION:PT1H
X-Robots-Tag:noindex
X-PUBLISHED-TTL:PT1H
BEGIN:VTIMEZONE
TZID:Europe/Prague
BEGIN:DAYLIGHT
TZOFFSETFROM:+0100
TZOFFSETTO:+0200
TZNAME:CEST
DTSTART:20260329T010000
END:DAYLIGHT
BEGIN:STANDARD
TZOFFSETFROM:+0200
TZOFFSETTO:+0100
TZNAME:CET
DTSTART:20261025T010000
END:STANDARD
END:VTIMEZONE
BEGIN:VEVENT
DTSTART;TZID=Europe/Prague:20260329T000000
DTEND;TZID=Europe/Prague:20260329T235959
DTSTAMP:20260422T121224
CREATED:20260317T114957Z
LAST-MODIFIED:20260317T114958Z
UID:63605-1774742400-1774828799@www.speedwayfakta.cz
SUMMARY:Prague open (Praha)
DESCRIPTION:
URL:https://www.speedwayfakta.cz/event/prague-open-praha/
END:VEVENT
BEGIN:VEVENT
DTSTART;TZID=Europe/Prague:20260407T000000
DTEND;TZID=Europe/Prague:20260407T235959
DTSTAMP:20260422T121224
CREATED:20260317T115038Z
LAST-MODIFIED:20260317T115040Z
UID:63607-1775520000-1775606399@www.speedwayfakta.cz
SUMMARY:Nominační závod reprezentace (Praha)
DESCRIPTION:
URL:https://www.speedwayfakta.cz/event/nominacni-zavod-reprezentace-praha/
END:VEVENT
BEGIN:VEVENT
DTSTART;TZID=Europe/Prague:20260411T000000
DTEND;TZID=Europe/Prague:20260411T235959
DTSTAMP:20260422T121224
CREATED:20260410T111411Z
LAST-MODIFIED:20260410T111412Z
UID:64816-1775865600-1775951999@www.speedwayfakta.cz
SUMMARY:MČR juniorů 1 (Slaný)
DESCRIPTION:
URL:https://www.speedwayfakta.cz/event/mcr-junioru-1-slany-2/
END:VEVENT
BEGIN:VEVENT
DTSTART;TZID=Europe/Prague:20260411T000000
DTEND;TZID=Europe/Prague:20260411T235959
DTSTAMP:20260422T121224
CREATED:20260410T112404Z
LAST-MODIFIED:20260410T112405Z
UID:64830-1775865600-1775951999@www.speedwayfakta.cz
SUMMARY:MČR juniorů do 125ccm 1 (Slaný)
DESCRIPTION:
URL:https://www.speedwayfakta.cz/event/mcr-junioru-do-125ccm-1-slany/
END:VEVENT
BEGIN:VEVENT
DTSTART;TZID=Europe/Prague:20260415T000000
DTEND;TZID=Europe/Prague:20260415T235959
DTSTAMP:20260422T121224
CREATED:20260317T114344Z
LAST-MODIFIED:20260317T114345Z
UID:63594-1776211200-1776297599@www.speedwayfakta.cz
SUMMARY:Extraliga 1 (Pardubice)
DESCRIPTION:
URL:https://www.speedwayfakta.cz/event/extraliga-1-pardubice/
END:VEVENT
BEGIN:VEVENT
DTSTART;TZID=Europe/Prague:20260418T000000
DTEND;TZID=Europe/Prague:20260418T235959
DTSTAMP:20260422T121224
CREATED:20260410T112851Z
LAST-MODIFIED:20260410T112853Z
UID:64842-1776470400-1776556799@www.speedwayfakta.cz
SUMMARY:MČR juniorů do 125ccm MD 1 (Chabařovice)
DESCRIPTION:
URL:https://www.speedwayfakta.cz/event/mcr-junioru-do-125ccm-md-1-chabarovice/
END:VEVENT
BEGIN:VEVENT
DTSTART;TZID=Europe/Prague:20260418T000000
DTEND;TZID=Europe/Prague:20260418T235959
DTSTAMP:20260422T121224
CREATED:20260413T120600Z
LAST-MODIFIED:20260413T120602Z
UID:64922-1776470400-1776556799@www.speedwayfakta.cz
SUMMARY:MČR Flattrack 1 (Chabařovice)
DESCRIPTION:FT 1\, FT Classis\, FT junior
URL:https://www.speedwayfakta.cz/event/mcr-flattrack-1-chabarovice/
END:VEVENT
BEGIN:VEVENT
DTSTART;TZID=Europe/Prague:20260418T150000
DTEND;TZID=Europe/Prague:20260418T200000
DTSTAMP:20260422T121224
CREATED:20260410T114829Z
LAST-MODIFIED:20260416T082729Z
UID:64874-1776524400-1776542400@www.speedwayfakta.cz
SUMMARY:ME družstev semifinále 1 a 2 (Pardubice)
DESCRIPTION:
URL:https://www.speedwayfakta.cz/event/me-druzstev-semifinale-1-a-2-pardubice/
ORGANIZER;CN="AMK Zlat%C3%A1 p%C5%99ilba Pardubice":MAILTO:amk.zp@wo.cz
END:VEVENT
BEGIN:VEVENT
DTSTART;TZID=Europe/Prague:20260425T080000
DTEND;TZID=Europe/Prague:20260425T170000
DTSTAMP:20260422T121224
CREATED:20260413T120724Z
LAST-MODIFIED:20260413T120726Z
UID:64941-1777104000-1777136400@www.speedwayfakta.cz
SUMMARY:MČR Flattrack 2 (Divišov)
DESCRIPTION:TTFT\, FT Classic\, FT Junior
URL:https://www.speedwayfakta.cz/event/mcr-flattrack-2-divisov/
END:VEVENT
BEGIN:VEVENT
DTSTART;TZID=Europe/Prague:20260428T000000
DTEND;TZID=Europe/Prague:20260428T235959
DTSTAMP:20260422T121224
CREATED:20260317T114430Z
LAST-MODIFIED:20260317T114436Z
UID:63596-1777334400-1777420799@www.speedwayfakta.cz
SUMMARY:Extraliga 2 (Praha)
DESCRIPTION:
URL:https://www.speedwayfakta.cz/event/extraliga-2-praha/
END:VEVENT
BEGIN:VEVENT
DTSTART;TZID=Europe/Prague:20260501T000000
DTEND;TZID=Europe/Prague:20260501T235959
DTSTAMP:20260422T121224
CREATED:20260410T111444Z
LAST-MODIFIED:20260410T111446Z
UID:64818-1777593600-1777679999@www.speedwayfakta.cz
SUMMARY:MČR juniorů 2 (Březolupy)
DESCRIPTION:
URL:https://www.speedwayfakta.cz/event/mcr-junioru-2-brezolupy-2/
END:VEVENT
BEGIN:VEVENT
DTSTART;TZID=Europe/Prague:20260501T000000
DTEND;TZID=Europe/Prague:20260501T235959
DTSTAMP:20260422T121224
CREATED:20260410T112434Z
LAST-MODIFIED:20260410T112435Z
UID:64832-1777593600-1777679999@www.speedwayfakta.cz
SUMMARY:MČR juniorů do 125ccm 2 (Březolupy)
DESCRIPTION:
URL:https://www.speedwayfakta.cz/event/mcr-junioru-do-125ccm-2-brezolupy/
END:VEVENT
BEGIN:VEVENT
DTSTART;TZID=Europe/Prague:20260502T000000
DTEND;TZID=Europe/Prague:20260502T235959
DTSTAMP:20260422T121224
CREATED:20260410T110407Z
LAST-MODIFIED:20260410T110408Z
UID:64786-1777680000-1777766399@www.speedwayfakta.cz
SUMMARY:Přebor ČR jednotlivců 1 (Svitavy)
DESCRIPTION:
URL:https://www.speedwayfakta.cz/event/prebor-cr-jednotlivcu-1-svitavy/
END:VEVENT
BEGIN:VEVENT
DTSTART;TZID=Europe/Prague:20260508T000000
DTEND;TZID=Europe/Prague:20260508T235959
DTSTAMP:20260422T121224
CREATED:20260410T114333Z
LAST-MODIFIED:20260410T114335Z
UID:64858-1778198400-1778284799@www.speedwayfakta.cz
SUMMARY:Memoriál Antonína Vildeho (Slaný)
DESCRIPTION:
URL:https://www.speedwayfakta.cz/event/memorial-antonina-vildeho-slany/
END:VEVENT
BEGIN:VEVENT
DTSTART;TZID=Europe/Prague:20260508T000000
DTEND;TZID=Europe/Prague:20260508T235959
DTSTAMP:20260422T121224
CREATED:20260410T114412Z
LAST-MODIFIED:20260410T114413Z
UID:64860-1778198400-1778284799@www.speedwayfakta.cz
SUMMARY:3. ročník SPT vs. PROFIL team (Kopřivnice)
DESCRIPTION:
URL:https://www.speedwayfakta.cz/event/3-rocnik-spt-vs-profil-team-koprivnice/
END:VEVENT
BEGIN:VEVENT
DTSTART;TZID=Europe/Prague:20260510T000000
DTEND;TZID=Europe/Prague:20260510T235959
DTSTAMP:20260422T121224
CREATED:20260410T110825Z
LAST-MODIFIED:20260410T110826Z
UID:64800-1778371200-1778457599@www.speedwayfakta.cz
SUMMARY:1. liga 1 (Plzeň)
DESCRIPTION:
URL:https://www.speedwayfakta.cz/event/1-liga-1-plzen/
END:VEVENT
BEGIN:VEVENT
DTSTART;TZID=Europe/Prague:20260510T000000
DTEND;TZID=Europe/Prague:20260510T235959
DTSTAMP:20260422T121224
CREATED:20260410T112508Z
LAST-MODIFIED:20260410T112509Z
UID:64834-1778371200-1778457599@www.speedwayfakta.cz
SUMMARY:MČR juniorů do 125ccm 3 (Plzeň)
DESCRIPTION:
URL:https://www.speedwayfakta.cz/event/mcr-junioru-do-125ccm-3-plzen/
END:VEVENT
BEGIN:VEVENT
DTSTART;TZID=Europe/Prague:20260513T000000
DTEND;TZID=Europe/Prague:20260513T235959
DTSTAMP:20260422T121224
CREATED:20260410T110908Z
LAST-MODIFIED:20260410T110909Z
UID:64802-1778630400-1778716799@www.speedwayfakta.cz
SUMMARY:1. liga 2 (Pardubice)
DESCRIPTION:
URL:https://www.speedwayfakta.cz/event/1-liga-2-pardubice/
END:VEVENT
BEGIN:VEVENT
DTSTART;TZID=Europe/Prague:20260513T000000
DTEND;TZID=Europe/Prague:20260513T235959
DTSTAMP:20260422T121224
CREATED:20260410T112252Z
LAST-MODIFIED:20260410T112253Z
UID:64828-1778630400-1778716799@www.speedwayfakta.cz
SUMMARY:MČR do 250 ccm (Pardubice)
DESCRIPTION:
URL:https://www.speedwayfakta.cz/event/mcr-do-250-ccm-pardubice/
END:VEVENT
BEGIN:VEVENT
DTSTART;TZID=Europe/Prague:20260516T000000
DTEND;TZID=Europe/Prague:20260516T235959
DTSTAMP:20260422T121224
CREATED:20260410T111636Z
LAST-MODIFIED:20260410T111637Z
UID:64824-1778889600-1778975999@www.speedwayfakta.cz
SUMMARY:MČR juniorských družstev (Liberec)
DESCRIPTION:
URL:https://www.speedwayfakta.cz/event/mcr-juniorskych-druzstev-liberec/
END:VEVENT
BEGIN:VEVENT
DTSTART;TZID=Europe/Prague:20260516T000000
DTEND;TZID=Europe/Prague:20260516T235959
DTSTAMP:20260422T121224
CREATED:20260410T112203Z
LAST-MODIFIED:20260410T112204Z
UID:64826-1778889600-1778975999@www.speedwayfakta.cz
SUMMARY:MČR dlouhá dráha (Mariánské Lázně)
DESCRIPTION:
URL:https://www.speedwayfakta.cz/event/mcr-dlouha-draha-marianske-lazne/
END:VEVENT
BEGIN:VEVENT
DTSTART;TZID=Europe/Prague:20260516T000000
DTEND;TZID=Europe/Prague:20260516T235959
DTSTAMP:20260422T121224
CREATED:20260410T113149Z
LAST-MODIFIED:20260410T113744Z
UID:64844-1778889600-1778975999@www.speedwayfakta.cz
SUMMARY:MČR juniorů do 125ccm MD 2 (Mar. Lázně)
DESCRIPTION:
URL:https://www.speedwayfakta.cz/event/mcr-junioru-do-125ccm-md-2-mar-lazne/
END:VEVENT
BEGIN:VEVENT
DTSTART;TZID=Europe/Prague:20260524T000000
DTEND;TZID=Europe/Prague:20260524T235959
DTSTAMP:20260422T121224
CREATED:20260410T110446Z
LAST-MODIFIED:20260410T110447Z
UID:64788-1779580800-1779667199@www.speedwayfakta.cz
SUMMARY:Přebor ČR jednotlivců 2 (Slaný)
DESCRIPTION:
URL:https://www.speedwayfakta.cz/event/prebor-cr-jednotlivcu-2-slany/
END:VEVENT
BEGIN:VEVENT
DTSTART;TZID=Europe/Prague:20260531T000000
DTEND;TZID=Europe/Prague:20260531T235959
DTSTAMP:20260422T121224
CREATED:20260410T110519Z
LAST-MODIFIED:20260410T110521Z
UID:64790-1780185600-1780271999@www.speedwayfakta.cz
SUMMARY:Přebor ČR jednotlivců 3 (Plzeň)
DESCRIPTION:
URL:https://www.speedwayfakta.cz/event/prebor-cr-jednotlivcu-3-plzen/
END:VEVENT
BEGIN:VEVENT
DTSTART;TZID=Europe/Prague:20260531T000000
DTEND;TZID=Europe/Prague:20260531T235959
DTSTAMP:20260422T121224
CREATED:20260410T113945Z
LAST-MODIFIED:20260410T113946Z
UID:64846-1780185600-1780271999@www.speedwayfakta.cz
SUMMARY:MČR juniorů do 125ccm MD 3 (Plzeň)
DESCRIPTION:
URL:https://www.speedwayfakta.cz/event/mcr-junioru-do-125ccm-md-3-plzen/
END:VEVENT
BEGIN:VEVENT
DTSTART;TZID=Europe/Prague:20260606T000000
DTEND;TZID=Europe/Prague:20260606T235959
DTSTAMP:20260422T121224
CREATED:20260413T120831Z
LAST-MODIFIED:20260413T120832Z
UID:64943-1780704000-1780790399@www.speedwayfakta.cz
SUMMARY:MČR Flattrack 3 (Mariánské Lázně)
DESCRIPTION:FT\, FT Classic
URL:https://www.speedwayfakta.cz/event/mcr-flattrack-3-marianske-lazne/
END:VEVENT
BEGIN:VEVENT
DTSTART;TZID=Europe/Prague:20260613T000000
DTEND;TZID=Europe/Prague:20260613T235959
DTSTAMP:20260422T121224
CREATED:20260410T110558Z
LAST-MODIFIED:20260410T110559Z
UID:64792-1781308800-1781395199@www.speedwayfakta.cz
SUMMARY:Přebor ČR jednotlivců 4 (Chabařovice)
DESCRIPTION:
URL:https://www.speedwayfakta.cz/event/prebor-cr-jednotlivcu-4-chabarovice/
END:VEVENT
BEGIN:VEVENT
DTSTART;TZID=Europe/Prague:20260613T000000
DTEND;TZID=Europe/Prague:20260613T235959
DTSTAMP:20260422T121224
CREATED:20260410T112543Z
LAST-MODIFIED:20260410T112544Z
UID:64836-1781308800-1781395199@www.speedwayfakta.cz
SUMMARY:MČR juniorů do 125ccm 4 (Chabařovice)
DESCRIPTION:
URL:https://www.speedwayfakta.cz/event/mcr-junioru-do-125ccm-4-chabarovice/
END:VEVENT
BEGIN:VEVENT
DTSTART;TZID=Europe/Prague:20260623T000000
DTEND;TZID=Europe/Prague:20260623T235959
DTSTAMP:20260422T121224
CREATED:20260410T110631Z
LAST-MODIFIED:20260410T110632Z
UID:64794-1782172800-1782259199@www.speedwayfakta.cz
SUMMARY:Přebor ČR jednotlivců 5 (Praha)
DESCRIPTION:
URL:https://www.speedwayfakta.cz/event/prebor-cr-jednotlivcu-5-praha/
END:VEVENT
BEGIN:VEVENT
DTSTART;TZID=Europe/Prague:20260624T000000
DTEND;TZID=Europe/Prague:20260624T235959
DTSTAMP:20260422T121224
CREATED:20260410T111333Z
LAST-MODIFIED:20260410T111334Z
UID:64814-1782259200-1782345599@www.speedwayfakta.cz
SUMMARY:Mistrovství ČR dvojic (Slaný)
DESCRIPTION:
URL:https://www.speedwayfakta.cz/event/mistrovstvi-cr-dvojic-slany/
END:VEVENT
END:VCALENDAR