BEGIN:VCALENDAR
VERSION:2.0
PRODID:-//Speedway Fakta - ECPv6.3.5//NONSGML v1.0//EN
CALSCALE:GREGORIAN
METHOD:PUBLISH
X-ORIGINAL-URL:https://www.speedwayfakta.cz
X-WR-CALDESC:Akce na Speedway Fakta
REFRESH-INTERVAL;VALUE=DURATION:PT1H
X-Robots-Tag:noindex
X-PUBLISHED-TTL:PT1H
BEGIN:VTIMEZONE
TZID:Europe/Prague
BEGIN:DAYLIGHT
TZOFFSETFROM:+0100
TZOFFSETTO:+0200
TZNAME:CEST
DTSTART:20260329T010000
END:DAYLIGHT
BEGIN:STANDARD
TZOFFSETFROM:+0200
TZOFFSETTO:+0100
TZNAME:CET
DTSTART:20261025T010000
END:STANDARD
END:VTIMEZONE
BEGIN:VEVENT
DTSTART;TZID=Europe/Prague:20260919T000000
DTEND;TZID=Europe/Prague:20260919T235959
DTSTAMP:20260422T133245
CREATED:20260410T110737Z
LAST-MODIFIED:20260410T110739Z
UID:64798-1789776000-1789862399@www.speedwayfakta.cz
SUMMARY:Přebor ČR jednotlivců 7 (Liberec)
DESCRIPTION:
URL:https://www.speedwayfakta.cz/event/prebor-cr-jednotlivcu-7-liberec/
END:VEVENT
BEGIN:VEVENT
DTSTART;TZID=Europe/Prague:20260919T000000
DTEND;TZID=Europe/Prague:20260919T235959
DTSTAMP:20260422T133245
CREATED:20260410T114256Z
LAST-MODIFIED:20260410T114257Z
UID:64856-1789776000-1789862399@www.speedwayfakta.cz
SUMMARY:MČR juniorů do 125ccm MD 8 (Divišov)
DESCRIPTION:
URL:https://www.speedwayfakta.cz/event/mcr-junioru-do-125ccm-md-8-divisov/
END:VEVENT
BEGIN:VEVENT
DTSTART;TZID=Europe/Prague:20260919T000000
DTEND;TZID=Europe/Prague:20260919T235959
DTSTAMP:20260422T133245
CREATED:20260410T114528Z
LAST-MODIFIED:20260410T114529Z
UID:64865-1789776000-1789862399@www.speedwayfakta.cz
SUMMARY:Evropská veteránská série (Mar. Lázně)
DESCRIPTION:
URL:https://www.speedwayfakta.cz/event/evropska-veteranska-serie-mar-lazne/
END:VEVENT
BEGIN:VEVENT
DTSTART;TZID=Europe/Prague:20260919T000000
DTEND;TZID=Europe/Prague:20260919T235959
DTSTAMP:20260422T133245
CREATED:20260413T121110Z
LAST-MODIFIED:20260413T121111Z
UID:64949-1789776000-1789862399@www.speedwayfakta.cz
SUMMARY:MČR Flattrack 6 (Svitavy)
DESCRIPTION:FT\, FT Classic\, FT Junior
URL:https://www.speedwayfakta.cz/event/mcr-flattrack-6-svitavy/
END:VEVENT
BEGIN:VEVENT
DTSTART;TZID=Europe/Prague:20260926T000000
DTEND;TZID=Europe/Prague:20260926T235959
DTSTAMP:20260422T133245
CREATED:20260413T121213Z
LAST-MODIFIED:20260413T121215Z
UID:64951-1790380800-1790467199@www.speedwayfakta.cz
SUMMARY:MČR Flattrack 7 (Březolupy)
DESCRIPTION:FT\, FT Classic\, FT Junior
URL:https://www.speedwayfakta.cz/event/mcr-flattrack-7-brezolupy/
END:VEVENT
BEGIN:VEVENT
DTSTART;TZID=Europe/Prague:20260928T000000
DTEND;TZID=Europe/Prague:20260928T235959
DTSTAMP:20260422T133245
CREATED:20260410T111300Z
LAST-MODIFIED:20260410T111301Z
UID:64812-1790553600-1790639999@www.speedwayfakta.cz
SUMMARY:1. liga 7 (Slaný)
DESCRIPTION:
URL:https://www.speedwayfakta.cz/event/1-liga-7-slany/
END:VEVENT
BEGIN:VEVENT
DTSTART;TZID=Europe/Prague:20261003T000000
DTEND;TZID=Europe/Prague:20261003T235959
DTSTAMP:20260422T133245
CREATED:20260410T114603Z
LAST-MODIFIED:20260410T114605Z
UID:64867-1790985600-1791071999@www.speedwayfakta.cz
SUMMARY:52. Zlatá stuha (Pardubice)
DESCRIPTION:
URL:https://www.speedwayfakta.cz/event/52-zlata-stuha-pardubice/
END:VEVENT
BEGIN:VEVENT
DTSTART;TZID=Europe/Prague:20261004T000000
DTEND;TZID=Europe/Prague:20261004T235959
DTSTAMP:20260422T133245
CREATED:20260410T114634Z
LAST-MODIFIED:20260410T114654Z
UID:64869-1791072000-1791158399@www.speedwayfakta.cz
SUMMARY:78. Zlatá přilba (Pardubice)
DESCRIPTION:
URL:https://www.speedwayfakta.cz/event/78-zlsta-prilba-pardubice/
END:VEVENT
BEGIN:VEVENT
DTSTART;TZID=Europe/Prague:20261005T000000
DTEND;TZID=Europe/Prague:20261005T235959
DTSTAMP:20260422T133245
CREATED:20260410T114737Z
LAST-MODIFIED:20260410T114739Z
UID:64872-1791158400-1791244799@www.speedwayfakta.cz
SUMMARY:57. Memlriál Luboše Tomíčka (Praha)
DESCRIPTION:
URL:https://www.speedwayfakta.cz/event/57-memlrial-lubose-tomicka-praha/
END:VEVENT
BEGIN:VEVENT
DTSTART;TZID=Europe/Prague:20261010T000000
DTEND;TZID=Europe/Prague:20261010T235959
DTSTAMP:20260422T133245
CREATED:20260413T121337Z
LAST-MODIFIED:20260413T121338Z
UID:64953-1791590400-1791676799@www.speedwayfakta.cz
SUMMARY:MČR Flattrack 8 (Praha)
DESCRIPTION:FT\, FT Junior
URL:https://www.speedwayfakta.cz/event/mcr-flattrack-8-praha/
END:VEVENT
BEGIN:VEVENT
DTSTART;TZID=Europe/Prague:20261010T000000
DTEND;TZID=Europe/Prague:20261010T235959
DTSTAMP:20260422T133245
CREATED:20260413T121600Z
LAST-MODIFIED:20260413T121713Z
UID:64955-1791590400-1791676799@www.speedwayfakta.cz
SUMMARY:MČR juniorů do 125ccm MD 9 (Praha)
DESCRIPTION:
URL:https://www.speedwayfakta.cz/event/mcr-junioru-do-125ccm-md-10-praha/
END:VEVENT
BEGIN:VEVENT
DTSTART;TZID=Europe/Prague:20261011T000000
DTEND;TZID=Europe/Prague:20261011T235959
DTSTAMP:20260422T133245
CREATED:20260317T114628Z
LAST-MODIFIED:20260317T114629Z
UID:63601-1791676800-1791763199@www.speedwayfakta.cz
SUMMARY:Extraliga 4 (Žarnovica)
DESCRIPTION:
URL:https://www.speedwayfakta.cz/event/extraliga-4-zarnovica/
END:VEVENT
BEGIN:VEVENT
DTSTART;TZID=Europe/Prague:20261018T000000
DTEND;TZID=Europe/Prague:20261018T235959
DTSTAMP:20260422T133245
CREATED:20260317T114730Z
LAST-MODIFIED:20260317T114732Z
UID:63603-1792281600-1792367999@www.speedwayfakta.cz
SUMMARY:Extraliga 4 nahr. termín (Žarnovica)
DESCRIPTION:
URL:https://www.speedwayfakta.cz/event/extraliga-4-nahr-termin-zarnovica/
END:VEVENT
END:VCALENDAR