BEGIN:VCALENDAR
VERSION:2.0
PRODID:-//Speedway Fakta - ECPv6.3.5//NONSGML v1.0//EN
CALSCALE:GREGORIAN
METHOD:PUBLISH
X-WR-CALNAME:Speedway Fakta
X-ORIGINAL-URL:https://www.speedwayfakta.cz
X-WR-CALDESC:Akce na Speedway Fakta
REFRESH-INTERVAL;VALUE=DURATION:PT1H
X-Robots-Tag:noindex
X-PUBLISHED-TTL:PT1H
BEGIN:VTIMEZONE
TZID:Europe/Prague
BEGIN:DAYLIGHT
TZOFFSETFROM:+0100
TZOFFSETTO:+0200
TZNAME:CEST
DTSTART:20250330T010000
END:DAYLIGHT
BEGIN:STANDARD
TZOFFSETFROM:+0200
TZOFFSETTO:+0100
TZNAME:CET
DTSTART:20251026T010000
END:STANDARD
END:VTIMEZONE
BEGIN:VEVENT
DTSTART;TZID=Europe/Prague:20250705T000000
DTEND;TZID=Europe/Prague:20250705T235959
DTSTAMP:20260422T181320
CREATED:20241022T111523Z
LAST-MODIFIED:20241022T111524Z
UID:60351-1751673600-1751759999@www.speedwayfakta.cz
SUMMARY:6. SGP (Malilla - SWE)
DESCRIPTION:
URL:https://www.speedwayfakta.cz/event/6-sgp-malilla-swe/
END:VEVENT
BEGIN:VEVENT
DTSTART;TZID=Europe/Prague:20250704T000000
DTEND;TZID=Europe/Prague:20250704T235959
DTSTAMP:20260422T181320
CREATED:20241022T111922Z
LAST-MODIFIED:20241022T111923Z
UID:60361-1751587200-1751673599@www.speedwayfakta.cz
SUMMARY:1. SGP 2 (Malilla - SWE)
DESCRIPTION:
URL:https://www.speedwayfakta.cz/event/1-sgp-2-malilla-swe/
END:VEVENT
BEGIN:VEVENT
DTSTART;TZID=Europe/Prague:20250629T000000
DTEND;TZID=Europe/Prague:20250629T235959
DTSTAMP:20260422T181320
CREATED:20250324T103506Z
LAST-MODIFIED:20250324T103507Z
UID:60844-1751155200-1751241599@www.speedwayfakta.cz
SUMMARY:MČR do 125 ccm KD 5 (Liberec)
DESCRIPTION:
URL:https://www.speedwayfakta.cz/event/mcr-do-125-ccm-kd-5-liberec/
END:VEVENT
BEGIN:VEVENT
DTSTART;TZID=Europe/Prague:20250628T000000
DTEND;TZID=Europe/Prague:20250628T235959
DTSTAMP:20260422T181320
CREATED:20250324T100554Z
LAST-MODIFIED:20250324T100555Z
UID:60774-1751068800-1751155199@www.speedwayfakta.cz
SUMMARY:Přebor 6 (Svitavy)
DESCRIPTION:
URL:https://www.speedwayfakta.cz/event/prebor-6-svitavy/
END:VEVENT
BEGIN:VEVENT
DTSTART;TZID=Europe/Prague:20250628T000000
DTEND;TZID=Europe/Prague:20250628T235959
DTSTAMP:20260422T181320
CREATED:20250324T090940Z
LAST-MODIFIED:20250324T090941Z
UID:60730-1751068800-1751155199@www.speedwayfakta.cz
SUMMARY:ME družstev Grand Final (Gdaňsk - POL)
DESCRIPTION:
URL:https://www.speedwayfakta.cz/event/me-druzstev-grand-final-gdansk-pol/
END:VEVENT
BEGIN:VEVENT
DTSTART;TZID=Europe/Prague:20250626T000000
DTEND;TZID=Europe/Prague:20250626T235959
DTSTAMP:20260422T181320
CREATED:20250324T101124Z
LAST-MODIFIED:20250324T101126Z
UID:60790-1750896000-1750982399@www.speedwayfakta.cz
SUMMARY:1. liga 1 (Praha)
DESCRIPTION:
URL:https://www.speedwayfakta.cz/event/1-liga-1-praha-2/
END:VEVENT
BEGIN:VEVENT
DTSTART;TZID=Europe/Prague:20250625T000000
DTEND;TZID=Europe/Prague:20250625T235959
DTSTAMP:20260422T181320
CREATED:20250324T101951Z
LAST-MODIFIED:20250324T101952Z
UID:60798-1750809600-1750895999@www.speedwayfakta.cz
SUMMARY:MČR dvojic (Plzeň)
DESCRIPTION:
URL:https://www.speedwayfakta.cz/event/mcr-dvojic-plzen/
END:VEVENT
BEGIN:VEVENT
DTSTART;TZID=Europe/Prague:20250621T000000
DTEND;TZID=Europe/Prague:20250621T235959
DTSTAMP:20260422T181320
CREATED:20250324T103045Z
LAST-MODIFIED:20250324T103047Z
UID:60830-1750464000-1750550399@www.speedwayfakta.cz
SUMMARY:MČR do 125 ccm 5 (Březolupy)
DESCRIPTION:
URL:https://www.speedwayfakta.cz/event/mcr-do-125-ccm-5-brezolupy/
END:VEVENT
BEGIN:VEVENT
DTSTART;TZID=Europe/Prague:20250621T000000
DTEND;TZID=Europe/Prague:20250621T235959
DTSTAMP:20260422T181320
CREATED:20250324T102428Z
LAST-MODIFIED:20250324T102430Z
UID:60812-1750464000-1750550399@www.speedwayfakta.cz
SUMMARY:Open MČR na dlouhé (Mariánské Lázně)
DESCRIPTION:
URL:https://www.speedwayfakta.cz/event/open-mcr-na-dlouhe-marianske-lazne/
END:VEVENT
BEGIN:VEVENT
DTSTART;TZID=Europe/Prague:20250621T000000
DTEND;TZID=Europe/Prague:20250621T235959
DTSTAMP:20260422T181320
CREATED:20250324T102103Z
LAST-MODIFIED:20250324T102105Z
UID:60802-1750464000-1750550399@www.speedwayfakta.cz
SUMMARY:MČR juniorů 2 (Březolupy)
DESCRIPTION:
URL:https://www.speedwayfakta.cz/event/mcr-junioru-2-brezolupy/
END:VEVENT
BEGIN:VEVENT
DTSTART;TZID=Europe/Prague:20250621T000000
DTEND;TZID=Europe/Prague:20250621T235959
DTSTAMP:20260422T181320
CREATED:20241022T111448Z
LAST-MODIFIED:20241022T111450Z
UID:60349-1750464000-1750550399@www.speedwayfakta.cz
SUMMARY:5. SGP (Gorzów - POL)
DESCRIPTION:
URL:https://www.speedwayfakta.cz/event/5-sgp-gorzow-pol/
END:VEVENT
BEGIN:VEVENT
DTSTART;TZID=Europe/Prague:20250618T000000
DTEND;TZID=Europe/Prague:20250618T235959
DTSTAMP:20260422T181320
CREATED:20250324T100916Z
LAST-MODIFIED:20250324T100918Z
UID:60784-1750204800-1750291199@www.speedwayfakta.cz
SUMMARY:Extraliga 2 (Pardubice)
DESCRIPTION:
URL:https://www.speedwayfakta.cz/event/extraliga-2-pardubice-2/
END:VEVENT
BEGIN:VEVENT
DTSTART;TZID=Europe/Prague:20250614T000000
DTEND;TZID=Europe/Prague:20250614T235959
DTSTAMP:20260422T181320
CREATED:20250324T103429Z
LAST-MODIFIED:20250324T103431Z
UID:60842-1749859200-1749945599@www.speedwayfakta.cz
SUMMARY:MČR do 125 ccm KD 4 (Chabařovice)
DESCRIPTION:
URL:https://www.speedwayfakta.cz/event/mcr-do-125-ccm-kd-4-chabarovice/
END:VEVENT
BEGIN:VEVENT
DTSTART;TZID=Europe/Prague:20250614T000000
DTEND;TZID=Europe/Prague:20250614T235959
DTSTAMP:20260422T181320
CREATED:20250324T103009Z
LAST-MODIFIED:20250324T103010Z
UID:60828-1749859200-1749945599@www.speedwayfakta.cz
SUMMARY:MČR do 125 ccm 4 (Liberec)
DESCRIPTION:
URL:https://www.speedwayfakta.cz/event/mcr-do-125-ccm-4-liberec/
END:VEVENT
BEGIN:VEVENT
DTSTART;TZID=Europe/Prague:20250614T000000
DTEND;TZID=Europe/Prague:20250614T235959
DTSTAMP:20260422T181320
CREATED:20250324T102555Z
LAST-MODIFIED:20250324T102557Z
UID:60814-1749859200-1749945599@www.speedwayfakta.cz
SUMMARY:MČR do 250 ccm 2 (Liberec)
DESCRIPTION:
URL:https://www.speedwayfakta.cz/event/mcr-do-250-ccm-2-liberec/
END:VEVENT
BEGIN:VEVENT
DTSTART;TZID=Europe/Prague:20250614T000000
DTEND;TZID=Europe/Prague:20250614T235959
DTSTAMP:20260422T181320
CREATED:20250324T100501Z
LAST-MODIFIED:20250324T100502Z
UID:60772-1749859200-1749945599@www.speedwayfakta.cz
SUMMARY:Přebor 5 (Chabařovice)
DESCRIPTION:
URL:https://www.speedwayfakta.cz/event/prebor-5-chabarovice/
END:VEVENT
BEGIN:VEVENT
DTSTART;TZID=Europe/Prague:20250614T000000
DTEND;TZID=Europe/Prague:20250614T235959
DTSTAMP:20260422T181320
CREATED:20241022T111408Z
LAST-MODIFIED:20241022T111409Z
UID:60347-1749859200-1749945599@www.speedwayfakta.cz
SUMMARY:4. SGP (Manchester - GBR)
DESCRIPTION:
URL:https://www.speedwayfakta.cz/event/4-sgp-manchester-gbr/
END:VEVENT
BEGIN:VEVENT
DTSTART;TZID=Europe/Prague:20250609T000000
DTEND;TZID=Europe/Prague:20250609T235959
DTSTAMP:20260422T181320
CREATED:20250324T110950Z
LAST-MODIFIED:20250324T110951Z
UID:60904-1749427200-1749513599@www.speedwayfakta.cz
SUMMARY:Kvalifikace 3 o SGP 2026 (Abensberg - GER)
DESCRIPTION:
URL:https://www.speedwayfakta.cz/event/kvalifikace-3-o-sgp-2026-abensberg-ger/
END:VEVENT
BEGIN:VEVENT
DTSTART;TZID=Europe/Prague:20250607T000000
DTEND;TZID=Europe/Prague:20250607T235959
DTSTAMP:20260422T181320
CREATED:20250324T110909Z
LAST-MODIFIED:20250324T110911Z
UID:60902-1749254400-1749340799@www.speedwayfakta.cz
SUMMARY:Kvalifikace 2 o SGP 2026 (Lonigo - ITA)
DESCRIPTION:
URL:https://www.speedwayfakta.cz/event/kvalifikace-2-o-sgp-2026-lonigo-ita/
END:VEVENT
BEGIN:VEVENT
DTSTART;TZID=Europe/Prague:20250607T000000
DTEND;TZID=Europe/Prague:20250607T235959
DTSTAMP:20260422T181320
CREATED:20250324T110833Z
LAST-MODIFIED:20250324T110835Z
UID:60900-1749254400-1749340799@www.speedwayfakta.cz
SUMMARY:Kvalifikace 1 o SGP 2026 (Žarnovica)
DESCRIPTION:
URL:https://www.speedwayfakta.cz/event/kvalifikace-1-o-sgp-2026-zarnovica/
END:VEVENT
BEGIN:VEVENT
DTSTART;TZID=Europe/Prague:20250607T000000
DTEND;TZID=Europe/Prague:20250607T235959
DTSTAMP:20260422T181320
CREATED:20250324T104321Z
LAST-MODIFIED:20250324T104322Z
UID:60864-1749254400-1749340799@www.speedwayfakta.cz
SUMMARY:Open MČR Flat Track 6 (Slaný)
DESCRIPTION:FTFT classicFT junior
URL:https://www.speedwayfakta.cz/event/open-mcr-flat-track-6-slany/
END:VEVENT
BEGIN:VEVENT
DTSTART;TZID=Europe/Prague:20250607T000000
DTEND;TZID=Europe/Prague:20250607T235959
DTSTAMP:20260422T181320
CREATED:20250324T102940Z
LAST-MODIFIED:20250324T102941Z
UID:60826-1749254400-1749340799@www.speedwayfakta.cz
SUMMARY:MČR do 125 ccm 3 (Plzeň)
DESCRIPTION:
URL:https://www.speedwayfakta.cz/event/mcr-do-125-ccm-3-plzen/
END:VEVENT
BEGIN:VEVENT
DTSTART;TZID=Europe/Prague:20250607T000000
DTEND;TZID=Europe/Prague:20250607T235959
DTSTAMP:20260422T181320
CREATED:20250324T100420Z
LAST-MODIFIED:20250324T100422Z
UID:60770-1749254400-1749340799@www.speedwayfakta.cz
SUMMARY:Přebor 4 (Plzeň)
DESCRIPTION:
URL:https://www.speedwayfakta.cz/event/prebor-4-plzen/
END:VEVENT
BEGIN:VEVENT
DTSTART;TZID=Europe/Prague:20250607T000000
DTEND;TZID=Europe/Prague:20250607T235959
DTSTAMP:20260422T181320
CREATED:20250324T091931Z
LAST-MODIFIED:20250324T091932Z
UID:60754-1749254400-1749340799@www.speedwayfakta.cz
SUMMARY:ME na trávě semifinále 1 (St. Macaire - FRA)
DESCRIPTION:
URL:https://www.speedwayfakta.cz/event/me-na-trave-semifinale-1-st-macaire-fra/
END:VEVENT
BEGIN:VEVENT
DTSTART;TZID=Europe/Prague:20250606T000000
DTEND;TZID=Europe/Prague:20250606T235959
DTSTAMP:20260422T181320
CREATED:20250324T104449Z
LAST-MODIFIED:20250324T104450Z
UID:60866-1749168000-1749254399@www.speedwayfakta.cz
SUMMARY:Open MČR Flat Track 7 (Pardubice)
DESCRIPTION:FT junior
URL:https://www.speedwayfakta.cz/event/open-mcr-flat-track-7-pardubice/
END:VEVENT
BEGIN:VEVENT
DTSTART;TZID=Europe/Prague:20250601T000000
DTEND;TZID=Europe/Prague:20250601T235959
DTSTAMP:20260422T181320
CREATED:20250324T100344Z
LAST-MODIFIED:20250324T100345Z
UID:60768-1748736000-1748822399@www.speedwayfakta.cz
SUMMARY:Přebor 3 (Slaný)
DESCRIPTION:
URL:https://www.speedwayfakta.cz/event/prebor-3-slany-2/
END:VEVENT
BEGIN:VEVENT
DTSTART;TZID=Europe/Prague:20250531T000000
DTEND;TZID=Europe/Prague:20250531T235959
DTSTAMP:20260422T181320
CREATED:20250324T090342Z
LAST-MODIFIED:20250324T090344Z
UID:60716-1748649600-1748735999@www.speedwayfakta.cz
SUMMARY:ME - Challenge SEC (Stralsund - GER)
DESCRIPTION:
URL:https://www.speedwayfakta.cz/event/me-challenge-sec-stralsund-ger/
END:VEVENT
BEGIN:VEVENT
DTSTART;TZID=Europe/Prague:20250531T000000
DTEND;TZID=Europe/Prague:20250531T235959
DTSTAMP:20260422T181320
CREATED:20241022T111311Z
LAST-MODIFIED:20241022T111313Z
UID:60345-1748649600-1748735999@www.speedwayfakta.cz
SUMMARY:3. SGP (Praha - CZE)
DESCRIPTION:
URL:https://www.speedwayfakta.cz/event/3-sgp-praha-cze/
END:VEVENT
BEGIN:VEVENT
DTSTART;TZID=Europe/Prague:20250530T000000
DTEND;TZID=Europe/Prague:20250530T235959
DTSTAMP:20260422T181320
CREATED:20241022T113209Z
LAST-MODIFIED:20241022T113210Z
UID:60367-1748563200-1748649599@www.speedwayfakta.cz
SUMMARY:SGP 3 finále (Praha - CZE)
DESCRIPTION:
URL:https://www.speedwayfakta.cz/event/sgp-3-finale-praha-cze/
END:VEVENT
BEGIN:VEVENT
DTSTART;TZID=Europe/Prague:20250524T000000
DTEND;TZID=Europe/Prague:20250524T235959
DTSTAMP:20260422T181320
CREATED:20250324T110724Z
LAST-MODIFIED:20250324T110726Z
UID:60898-1748044800-1748131199@www.speedwayfakta.cz
SUMMARY:Kvalifikace 3 o SGP 2 (Debrecen - HUN)
DESCRIPTION:
URL:https://www.speedwayfakta.cz/event/kvalifikace-3-o-sgp-2-debrecen-hun/
END:VEVENT
END:VCALENDAR