BEGIN:VCALENDAR
VERSION:2.0
PRODID:-//Speedway Fakta - ECPv6.3.5//NONSGML v1.0//EN
CALSCALE:GREGORIAN
METHOD:PUBLISH
X-WR-CALNAME:Speedway Fakta
X-ORIGINAL-URL:https://www.speedwayfakta.cz
X-WR-CALDESC:Akce na Speedway Fakta
REFRESH-INTERVAL;VALUE=DURATION:PT1H
X-Robots-Tag:noindex
X-PUBLISHED-TTL:PT1H
BEGIN:VTIMEZONE
TZID:Europe/Prague
BEGIN:DAYLIGHT
TZOFFSETFROM:+0100
TZOFFSETTO:+0200
TZNAME:CEST
DTSTART:20250330T010000
END:DAYLIGHT
BEGIN:STANDARD
TZOFFSETFROM:+0200
TZOFFSETTO:+0100
TZNAME:CET
DTSTART:20251026T010000
END:STANDARD
END:VTIMEZONE
BEGIN:VEVENT
DTSTART;TZID=Europe/Prague:20250510T000000
DTEND;TZID=Europe/Prague:20250510T235959
DTSTAMP:20260422T213559
CREATED:20250324T090835Z
LAST-MODIFIED:20250324T090836Z
UID:60728-1746835200-1746921599@www.speedwayfakta.cz
SUMMARY:ME družstev Final B (Elgane - NOR)
DESCRIPTION:
URL:https://www.speedwayfakta.cz/event/me-druzstev-final-b-elgane-nor/
END:VEVENT
BEGIN:VEVENT
DTSTART;TZID=Europe/Prague:20250510T000000
DTEND;TZID=Europe/Prague:20250510T235959
DTSTAMP:20260422T213559
CREATED:20250324T090752Z
LAST-MODIFIED:20250324T090754Z
UID:60726-1746835200-1746921599@www.speedwayfakta.cz
SUMMARY:ME družstev Final A (Pardubice - CZE)
DESCRIPTION:
URL:https://www.speedwayfakta.cz/event/me-druzstev-final-a-pardubice-cze/
END:VEVENT
BEGIN:VEVENT
DTSTART;TZID=Europe/Prague:20250508T000000
DTEND;TZID=Europe/Prague:20250508T235959
DTSTAMP:20260422T213559
CREATED:20250415T101650Z
LAST-MODIFIED:20250415T101651Z
UID:61123-1746662400-1746748799@www.speedwayfakta.cz
SUMMARY:Volný závod (Kopřivnice)
DESCRIPTION:
URL:https://www.speedwayfakta.cz/event/volny-zavod-koprivnice-2/
END:VEVENT
BEGIN:VEVENT
DTSTART;TZID=Europe/Prague:20250503T000000
DTEND;TZID=Europe/Prague:20250503T235959
DTSTAMP:20260422T213559
CREATED:20250324T104928Z
LAST-MODIFIED:20250324T104929Z
UID:60876-1746230400-1746316799@www.speedwayfakta.cz
SUMMARY:Memoriál Antonína Vildeho (Slaný)
DESCRIPTION:
URL:https://www.speedwayfakta.cz/event/memorial-antonina-vildeho-slany-2/
END:VEVENT
BEGIN:VEVENT
DTSTART;TZID=Europe/Prague:20250503T000000
DTEND;TZID=Europe/Prague:20250503T235959
DTSTAMP:20260422T213559
CREATED:20250324T103359Z
LAST-MODIFIED:20250324T103401Z
UID:60840-1746230400-1746316799@www.speedwayfakta.cz
SUMMARY:MČR do 125 ccm KD 3 (Slaný)
DESCRIPTION:
URL:https://www.speedwayfakta.cz/event/mcr-do-125-ccm-kd-3-slany/
END:VEVENT
BEGIN:VEVENT
DTSTART;TZID=Europe/Prague:20250503T000000
DTEND;TZID=Europe/Prague:20250503T235959
DTSTAMP:20260422T213559
CREATED:20250324T102906Z
LAST-MODIFIED:20250324T102907Z
UID:60824-1746230400-1746316799@www.speedwayfakta.cz
SUMMARY:MČR do 125 ccm 2 (Slaný)
DESCRIPTION:
URL:https://www.speedwayfakta.cz/event/mcr-do-125-ccm-2-slany/
END:VEVENT
BEGIN:VEVENT
DTSTART;TZID=Europe/Prague:20250503T000000
DTEND;TZID=Europe/Prague:20250503T235959
DTSTAMP:20260422T213559
CREATED:20250324T091447Z
LAST-MODIFIED:20250324T091448Z
UID:60742-1746230400-1746316799@www.speedwayfakta.cz
SUMMARY:ME U19 semifinále 2 (Žarnovica - SVK)
DESCRIPTION:
URL:https://www.speedwayfakta.cz/event/me-u19-semifinale-2-zarnovica-svk/
END:VEVENT
BEGIN:VEVENT
DTSTART;TZID=Europe/Prague:20250503T000000
DTEND;TZID=Europe/Prague:20250503T235959
DTSTAMP:20260422T213559
CREATED:20241022T111145Z
LAST-MODIFIED:20241022T111146Z
UID:60341-1746230400-1746316799@www.speedwayfakta.cz
SUMMARY:1. SGP (Landshut - GER)
DESCRIPTION:
URL:https://www.speedwayfakta.cz/event/1-sgp-landshut-ger/
END:VEVENT
BEGIN:VEVENT
DTSTART;TZID=Europe/Prague:20250501T000000
DTEND;TZID=Europe/Prague:20250501T235959
DTSTAMP:20260422T213559
CREATED:20250324T090156Z
LAST-MODIFIED:20250324T090200Z
UID:60712-1746057600-1746143999@www.speedwayfakta.cz
SUMMARY:ME - kvalifikace 3 SEC (Debrecen - HUN)
DESCRIPTION:
URL:https://www.speedwayfakta.cz/event/me-kvalifikace-3-sec-debrecen-hun/
END:VEVENT
BEGIN:VEVENT
DTSTART;TZID=Europe/Prague:20250501T000000
DTEND;TZID=Europe/Prague:20250501T235959
DTSTAMP:20260422T213559
CREATED:20250324T090121Z
LAST-MODIFIED:20250324T090122Z
UID:60710-1746057600-1746143999@www.speedwayfakta.cz
SUMMARY:ME - kvalifikace 2 SEC (Mureck - AUT)
DESCRIPTION:
URL:https://www.speedwayfakta.cz/event/me-kvalifikace-2-sec-mureck-aut/
END:VEVENT
BEGIN:VEVENT
DTSTART;TZID=Europe/Prague:20250501T000000
DTEND;TZID=Europe/Prague:20250501T235959
DTSTAMP:20260422T213559
CREATED:20250324T090030Z
LAST-MODIFIED:20250324T090032Z
UID:60708-1746057600-1746143999@www.speedwayfakta.cz
SUMMARY:ME - kvalifikace 1 SEC (Brokstedt - GER)
DESCRIPTION:
URL:https://www.speedwayfakta.cz/event/me-kvalifikace-1-sec-brokstedt-ger/
END:VEVENT
BEGIN:VEVENT
DTSTART;TZID=Europe/Prague:20250427T000000
DTEND;TZID=Europe/Prague:20250427T235959
DTSTAMP:20260422T213559
CREATED:20250324T104045Z
LAST-MODIFIED:20250324T104047Z
UID:60858-1745712000-1745798399@www.speedwayfakta.cz
SUMMARY:Open MČR Flat Track 3 (Divišov)
DESCRIPTION:FTFT classicFT junior
URL:https://www.speedwayfakta.cz/event/open-mcr-flat-track-3-divisov/
END:VEVENT
BEGIN:VEVENT
DTSTART;TZID=Europe/Prague:20250426T000000
DTEND;TZID=Europe/Prague:20250426T235959
DTSTAMP:20260422T213559
CREATED:20250324T104001Z
LAST-MODIFIED:20250324T104002Z
UID:60856-1745625600-1745711999@www.speedwayfakta.cz
SUMMARY:Open MČR Flat Track 2 TT (Divišov)
DESCRIPTION:FTFT classicFT junior
URL:https://www.speedwayfakta.cz/event/open-mcr-flat-track-2-tt-divisov/
END:VEVENT
BEGIN:VEVENT
DTSTART;TZID=Europe/Prague:20250426T000000
DTEND;TZID=Europe/Prague:20250426T235959
DTSTAMP:20260422T213559
CREATED:20250324T091612Z
LAST-MODIFIED:20250324T091614Z
UID:60746-1745625600-1745711999@www.speedwayfakta.cz
SUMMARY:ME dvojic kvalifikace (Krško - SLO)
DESCRIPTION:
URL:https://www.speedwayfakta.cz/event/me-dvojic-kvalifikace-krsko-slo/
END:VEVENT
BEGIN:VEVENT
DTSTART;TZID=Europe/Prague:20250424T000000
DTEND;TZID=Europe/Prague:20250424T235959
DTSTAMP:20260422T213559
CREATED:20250324T100841Z
LAST-MODIFIED:20250324T100843Z
UID:60782-1745452800-1745539199@www.speedwayfakta.cz
SUMMARY:Extraliga 1 (Praha)
DESCRIPTION:
URL:https://www.speedwayfakta.cz/event/extraliga-1-praha-2/
END:VEVENT
END:VCALENDAR